BEGIN:VCALENDAR
VERSION:2.0
PRODID:-//LandFrauenverein Neermoor - ECPv6.15.20//NONSGML v1.0//EN
CALSCALE:GREGORIAN
METHOD:PUBLISH
X-ORIGINAL-URL:https://www.landfrauen-neermoor.de
X-WR-CALDESC:Veranstaltungen für LandFrauenverein Neermoor
REFRESH-INTERVAL;VALUE=DURATION:PT1H
X-Robots-Tag:noindex
X-PUBLISHED-TTL:PT1H
BEGIN:VTIMEZONE
TZID:Europe/Berlin
BEGIN:DAYLIGHT
TZOFFSETFROM:+0100
TZOFFSETTO:+0200
TZNAME:CEST
DTSTART:20220327T010000
END:DAYLIGHT
BEGIN:STANDARD
TZOFFSETFROM:+0200
TZOFFSETTO:+0100
TZNAME:CET
DTSTART:20221030T010000
END:STANDARD
BEGIN:DAYLIGHT
TZOFFSETFROM:+0100
TZOFFSETTO:+0200
TZNAME:CEST
DTSTART:20230326T010000
END:DAYLIGHT
BEGIN:STANDARD
TZOFFSETFROM:+0200
TZOFFSETTO:+0100
TZNAME:CET
DTSTART:20231029T010000
END:STANDARD
BEGIN:DAYLIGHT
TZOFFSETFROM:+0100
TZOFFSETTO:+0200
TZNAME:CEST
DTSTART:20240331T010000
END:DAYLIGHT
BEGIN:STANDARD
TZOFFSETFROM:+0200
TZOFFSETTO:+0100
TZNAME:CET
DTSTART:20241027T010000
END:STANDARD
END:VTIMEZONE
BEGIN:VEVENT
DTSTART;VALUE=DATE:20231209
DTEND;VALUE=DATE:20231210
DTSTAMP:20260426T032049
CREATED:20230212T141804Z
LAST-MODIFIED:20230212T141804Z
UID:1403-1702080000-1702166399@www.landfrauen-neermoor.de
SUMMARY:Weihnachtsmarkt Waldhof Schulze-Beikel
DESCRIPTION:Um 9:00 Uhr gehts mit dem Bus Richtung Süden. Wir steuern zuerst die Edelkornbrennerei Rosche in Haselünne an. Dort werden wir nach einer “spirituellen Führung” einen kleinen Imbiss zu uns nehmen\, um gestärkt nach Borken zum urigen Waldweihnachtsmarkt der Familie Schulze-Beikel zu fahren. \n \nAnmeldungen bitte bis zum 30.11. beim Vorstand
URL:https://www.landfrauen-neermoor.de/programm/weihnachtsmarkt-waldhof-schulze-beikel/
LOCATION:Kiosk am Kreisel
END:VEVENT
END:VCALENDAR