BEGIN:VCALENDAR
VERSION:2.0
PRODID:-//LandFrauenverein Neermoor - ECPv6.15.20//NONSGML v1.0//EN
CALSCALE:GREGORIAN
METHOD:PUBLISH
X-WR-CALNAME:LandFrauenverein Neermoor
X-ORIGINAL-URL:https://www.landfrauen-neermoor.de
X-WR-CALDESC:Veranstaltungen für LandFrauenverein Neermoor
REFRESH-INTERVAL;VALUE=DURATION:PT1H
X-Robots-Tag:noindex
X-PUBLISHED-TTL:PT1H
BEGIN:VTIMEZONE
TZID:Europe/Berlin
BEGIN:DAYLIGHT
TZOFFSETFROM:+0100
TZOFFSETTO:+0200
TZNAME:CEST
DTSTART:20220327T010000
END:DAYLIGHT
BEGIN:STANDARD
TZOFFSETFROM:+0200
TZOFFSETTO:+0100
TZNAME:CET
DTSTART:20221030T010000
END:STANDARD
BEGIN:DAYLIGHT
TZOFFSETFROM:+0100
TZOFFSETTO:+0200
TZNAME:CEST
DTSTART:20230326T010000
END:DAYLIGHT
BEGIN:STANDARD
TZOFFSETFROM:+0200
TZOFFSETTO:+0100
TZNAME:CET
DTSTART:20231029T010000
END:STANDARD
BEGIN:DAYLIGHT
TZOFFSETFROM:+0100
TZOFFSETTO:+0200
TZNAME:CEST
DTSTART:20240331T010000
END:DAYLIGHT
BEGIN:STANDARD
TZOFFSETFROM:+0200
TZOFFSETTO:+0100
TZNAME:CET
DTSTART:20241027T010000
END:STANDARD
END:VTIMEZONE
BEGIN:VEVENT
DTSTART;TZID=Europe/Berlin:20231211T200000
DTEND;TZID=Europe/Berlin:20231211T220000
DTSTAMP:20260426T031628
CREATED:20230212T141016Z
LAST-MODIFIED:20231205T142922Z
UID:1400-1702324800-1702332000@www.landfrauen-neermoor.de
SUMMARY:Adventsfeier mit " Tütschas Dgitoolkroog"
DESCRIPTION: In diesem Jahr geht es nicht nur besinnlich zu bei den Neermoorer Landfrauen! \nDer Baltrumer Ex-Bürgermeister Berthold Tuitjer unterhält uns musikalisch auf Platt und hat so manche Anekdote im Gepäck. \nWir wünschen allen unseren Mitgliedern\, deren Familien und unseren Gästen ein Frohes und Friedliches Weihnachtsfest!\nEin Tortenbuffet sagt mehr alle viele Worte!
URL:https://www.landfrauen-neermoor.de/programm/adventsfeier-2/
LOCATION:Bürgerhaus Neermoor\, Norderstraße 6\, Moormerland\, 26802\, Deutschland
END:VEVENT
END:VCALENDAR