BEGIN:VCALENDAR
VERSION:2.0
PRODID:-//LandFrauenverein Neermoor - ECPv6.15.20//NONSGML v1.0//EN
CALSCALE:GREGORIAN
METHOD:PUBLISH
X-WR-CALNAME:LandFrauenverein Neermoor
X-ORIGINAL-URL:https://www.landfrauen-neermoor.de
X-WR-CALDESC:Veranstaltungen für LandFrauenverein Neermoor
REFRESH-INTERVAL;VALUE=DURATION:PT1H
X-Robots-Tag:noindex
X-PUBLISHED-TTL:PT1H
BEGIN:VTIMEZONE
TZID:Europe/Berlin
BEGIN:DAYLIGHT
TZOFFSETFROM:+0100
TZOFFSETTO:+0200
TZNAME:CEST
DTSTART:20230326T010000
END:DAYLIGHT
BEGIN:STANDARD
TZOFFSETFROM:+0200
TZOFFSETTO:+0100
TZNAME:CET
DTSTART:20231029T010000
END:STANDARD
BEGIN:DAYLIGHT
TZOFFSETFROM:+0100
TZOFFSETTO:+0200
TZNAME:CEST
DTSTART:20240331T010000
END:DAYLIGHT
BEGIN:STANDARD
TZOFFSETFROM:+0200
TZOFFSETTO:+0100
TZNAME:CET
DTSTART:20241027T010000
END:STANDARD
BEGIN:DAYLIGHT
TZOFFSETFROM:+0100
TZOFFSETTO:+0200
TZNAME:CEST
DTSTART:20250330T010000
END:DAYLIGHT
BEGIN:STANDARD
TZOFFSETFROM:+0200
TZOFFSETTO:+0100
TZNAME:CET
DTSTART:20251026T010000
END:STANDARD
END:VTIMEZONE
BEGIN:VEVENT
DTSTART;TZID=Europe/Berlin:20240212T200000
DTEND;TZID=Europe/Berlin:20240212T220000
DTSTAMP:20260426T001436
CREATED:20240101T181925Z
LAST-MODIFIED:20240101T184058Z
UID:1448-1707768000-1707775200@www.landfrauen-neermoor.de
SUMMARY:Jahreshauptversammlung mit Wahlen
DESCRIPTION:Wahlen des Vorstandes stehen an. \nIn unserem Jahresrückblick in Bildern lassen wir 2023 Revue passieren. \n  \nDie Einladung mit Tagesordnung liegt im Download bereit:  \nEinladung Jahreshauptversammlung 2024
URL:https://www.landfrauen-neermoor.de/programm/jahreshauptversammlung-mit-wahlen/
LOCATION:Bürgerhaus Neermoor\, Norderstraße 6\, Moormerland\, 26802\, Deutschland
END:VEVENT
END:VCALENDAR