BEGIN:VCALENDAR
VERSION:2.0
PRODID:-//LandFrauenverein Neermoor - ECPv6.15.20//NONSGML v1.0//EN
CALSCALE:GREGORIAN
METHOD:PUBLISH
X-WR-CALNAME:LandFrauenverein Neermoor
X-ORIGINAL-URL:https://www.landfrauen-neermoor.de
X-WR-CALDESC:Veranstaltungen für LandFrauenverein Neermoor
REFRESH-INTERVAL;VALUE=DURATION:PT1H
X-Robots-Tag:noindex
X-PUBLISHED-TTL:PT1H
BEGIN:VTIMEZONE
TZID:Europe/Berlin
BEGIN:DAYLIGHT
TZOFFSETFROM:+0100
TZOFFSETTO:+0200
TZNAME:CEST
DTSTART:20230326T010000
END:DAYLIGHT
BEGIN:STANDARD
TZOFFSETFROM:+0200
TZOFFSETTO:+0100
TZNAME:CET
DTSTART:20231029T010000
END:STANDARD
BEGIN:DAYLIGHT
TZOFFSETFROM:+0100
TZOFFSETTO:+0200
TZNAME:CEST
DTSTART:20240331T010000
END:DAYLIGHT
BEGIN:STANDARD
TZOFFSETFROM:+0200
TZOFFSETTO:+0100
TZNAME:CET
DTSTART:20241027T010000
END:STANDARD
BEGIN:DAYLIGHT
TZOFFSETFROM:+0100
TZOFFSETTO:+0200
TZNAME:CEST
DTSTART:20250330T010000
END:DAYLIGHT
BEGIN:STANDARD
TZOFFSETFROM:+0200
TZOFFSETTO:+0100
TZNAME:CET
DTSTART:20251026T010000
END:STANDARD
END:VTIMEZONE
BEGIN:VEVENT
DTSTART;TZID=Europe/Berlin:20240928T103000
DTEND;TZID=Europe/Berlin:20240928T133000
DTSTAMP:20260423T112119
CREATED:20240529T082734Z
LAST-MODIFIED:20240529T082734Z
UID:1505-1727519400-1727530200@www.landfrauen-neermoor.de
SUMMARY:Staudentausch-Markt
DESCRIPTION:“Der Hebst schert hurtig Berg und Tal\nmit kalter Schere ratzekahl.\nDer Vogel reist nach warmer Ferne;\nWir alle folgen ihm so gerne.”\nRingelnatz \n  \nDer Herbst lädt aber auch wieder zu unserem Staudenmarkt ein. Also kein Grund\, in die Ferne zu schweifen! Hurtig in den Garten\, Stauden teilen und mitbringen. Die Lücke wird schnell durch andere heimische Stauden gefüllt. \nAber natürlich auch ohne Pflanzen ist jede Interessierte herzlich willkommen! \nEin kleiner Imbiss zum Klönen\, tolle Handarbeiten\, unterhaltsame Mitmenschen. Da möchte niemand mehr dem Vogel in die Ferne folgen!                                                                          Denn hier geht die Sonne auf!
URL:https://www.landfrauen-neermoor.de/programm/staudentausch-markt-3/
LOCATION:Bürgerhaus Neermoor\, Norderstraße 6\, Moormerland\, 26802\, Deutschland
END:VEVENT
END:VCALENDAR