BEGIN:VCALENDAR
VERSION:2.0
PRODID:-//LandFrauenverein Neermoor - ECPv6.15.20//NONSGML v1.0//EN
CALSCALE:GREGORIAN
METHOD:PUBLISH
X-ORIGINAL-URL:https://www.landfrauen-neermoor.de
X-WR-CALDESC:Veranstaltungen für LandFrauenverein Neermoor
REFRESH-INTERVAL;VALUE=DURATION:PT1H
X-Robots-Tag:noindex
X-PUBLISHED-TTL:PT1H
BEGIN:VTIMEZONE
TZID:Europe/Berlin
BEGIN:DAYLIGHT
TZOFFSETFROM:+0100
TZOFFSETTO:+0200
TZNAME:CEST
DTSTART:20230326T010000
END:DAYLIGHT
BEGIN:STANDARD
TZOFFSETFROM:+0200
TZOFFSETTO:+0100
TZNAME:CET
DTSTART:20231029T010000
END:STANDARD
BEGIN:DAYLIGHT
TZOFFSETFROM:+0100
TZOFFSETTO:+0200
TZNAME:CEST
DTSTART:20240331T010000
END:DAYLIGHT
BEGIN:STANDARD
TZOFFSETFROM:+0200
TZOFFSETTO:+0100
TZNAME:CET
DTSTART:20241027T010000
END:STANDARD
BEGIN:DAYLIGHT
TZOFFSETFROM:+0100
TZOFFSETTO:+0200
TZNAME:CEST
DTSTART:20250330T010000
END:DAYLIGHT
BEGIN:STANDARD
TZOFFSETFROM:+0200
TZOFFSETTO:+0100
TZNAME:CET
DTSTART:20251026T010000
END:STANDARD
END:VTIMEZONE
BEGIN:VEVENT
DTSTART;TZID=Europe/Berlin:20241207T090000
DTEND;TZID=Europe/Berlin:20241207T210000
DTSTAMP:20260423T032550
CREATED:20241115T140149Z
LAST-MODIFIED:20241115T143202Z
UID:1526-1733562000-1733605200@www.landfrauen-neermoor.de
SUMMARY:Weihnachtsmarkt Gut Basthorst - Tagesfahrt-
DESCRIPTION:Das zwischen Hamburg und Lübeck gelegene Kulturdenkmal lädt mit seinen rund 250 Ausstellern ein! \nAlle Jahre wieder findet auf dem Kulturdenkmal Gut Basthorst vor den Toren Hamburgs der stimmungsvolle und bezaubernde Weihnachtsmarkt LebensArt statt. Er zählt zu den größten Norddeutschlands und wird regelmäßig unter die schönsten Weihnachtsmärkte ganz Deutschlands gewählt. Ein umfangreiches Rahmenprogramm für Groß und Klein erwartet Sie an allen 5 Wochenenden des Weihnachtsmarkts (Freitag-Sonntag). So auch das Wasserfeuerwerk\, das mit weihnachtlicher Musik untermalte Feuerwerk – stimmungsvoll und umweltfreundlich! Oder das Blechbläser-Trio der Müssener Marschband \n\nEbenso werden wundervolle köstliche kulinarische Spezialitäten angeboten. \nVerbindliche Anmeldung bitte bis zum 01.12.2024 beim Vorstand oder durch Überweisung!\nWissenswertes über unser Reiseziel: \nAuf Gut Basthorst bestehen traditionelle Land- und Forstwirtschaft neben modern genutzten\, ehemaligen Stallungen und dem Herrenhaus für Hochzeiten\, Firmenfeiern\, Tagungen\, Messen\, Konzerte und Märkte. Vor allem unsere stimmungsvollen\, traditionellen Frühjahrs-\, Herbst-\, und Weihnachtsmärkte ziehen jedes Jahr viele Tausend Besucher an. \nDarüber hinaus können Sie in unserem gutseigenen Restaurant zum Pferdestall und dem dahinter liegenden Rosengarten ganzjährig frische\, regionale Speisen genießen und den Abend in einer der individuell eingerichteten Hotelzimmer auf dem Hof oder in einer der Ferienwohnungen ausklingen lassen. \nDas Gut mit seinen über 30 Gebäuden ist inzwischen auch Heimat für mehrere mittelständische Unternehmen und Händler sowie einer Brennerei\, einer Büchsenmacherei\, einem Antiquitätenhändler\, einem schwedischen Whiskey-Fasslager und einer Restaurationswerkstatt geworden. Ihre exklusive\, oft handgefertigte Ware wird hier vor Ort hergestellt und verkauft. \nBasthorst blickt auf  eine 800-jährige Geschichte zurück und war schon früh ein mächtiger Rittersitz mit beträchtlicher Grösse. Mit einer Fläche von rund 4.000 ha zählte Basthorst zu den ältesten und grössten Rittersitzen im Herzogtum Lauenburg. Historische bundesweite Zeitgeschichte haben die Herren von Basthorst zwar nicht geschrieben\, aber ihr Einfluss auf das Geschehen im Herzogtum Lauenburg und unserer weiteren Heimat ist vielfach nachweisbar. \nDie Regentschaft der „von Ruffin“ \, in dessen Besitz sich das Gut heute befindet\, begann im Jahre 1944 unter den schrecklichen Bedingungen des zu Ende gehenden 2. Weltkrieges. Als Franz von Ruffin das Gut von seinem Onkel Joseph von Brusselle übernahm\, waren dort mehr als 150 Flüchtlinge einquartiert. Mit hohem sozialen Verantwortungsbewusstsein siedelte er diese Familie dauerhaft in die Dorfkultur ein. Erst nach und nach kam die Landwirtschaft wieder in Gang\, die in dieser Zeit von der Getreide-Viehwirtschaft auf den reinen Anbau von Getreide\, Raps und Zuckerrüben umgestellt wurde. Franz v. Ruffin lag vor allem das Gemeinwohl am Herzen; er nahm mit großer Umsicht seinen Sitz in der Gemeindevertretung und sein Amt als weltlicher Patron der St. Marienkirche wahr. Sein Nachfolger und heutiger Besitzer Enno v. Ruffin trat in diese Pflichten ebenfalls ein und unterstützt seither als langjähriger Kirchenpatron und Gemeinderat die heutige Entwicklung des Dorfes mit leidenschaftlichem Engagement. Die Metamorphose des Gutsbetriebs in die moderne Zeit wurde durch die Familie v. Ruffin wesentlich geprägt und vorangetrieben. \n 
URL:https://www.landfrauen-neermoor.de/programm/weihnachtsmarkt-gut-basthorst-tagesfahrt/
LOCATION:Kiosk am Kreisel
END:VEVENT
END:VCALENDAR