BEGIN:VCALENDAR
VERSION:2.0
PRODID:-//LandFrauenverein Neermoor - ECPv6.15.20//NONSGML v1.0//EN
CALSCALE:GREGORIAN
METHOD:PUBLISH
X-ORIGINAL-URL:https://www.landfrauen-neermoor.de
X-WR-CALDESC:Veranstaltungen für LandFrauenverein Neermoor
REFRESH-INTERVAL;VALUE=DURATION:PT1H
X-Robots-Tag:noindex
X-PUBLISHED-TTL:PT1H
BEGIN:VTIMEZONE
TZID:Europe/Berlin
BEGIN:DAYLIGHT
TZOFFSETFROM:+0100
TZOFFSETTO:+0200
TZNAME:CEST
DTSTART:20230326T010000
END:DAYLIGHT
BEGIN:STANDARD
TZOFFSETFROM:+0200
TZOFFSETTO:+0100
TZNAME:CET
DTSTART:20231029T010000
END:STANDARD
BEGIN:DAYLIGHT
TZOFFSETFROM:+0100
TZOFFSETTO:+0200
TZNAME:CEST
DTSTART:20240331T010000
END:DAYLIGHT
BEGIN:STANDARD
TZOFFSETFROM:+0200
TZOFFSETTO:+0100
TZNAME:CET
DTSTART:20241027T010000
END:STANDARD
BEGIN:DAYLIGHT
TZOFFSETFROM:+0100
TZOFFSETTO:+0200
TZNAME:CEST
DTSTART:20250330T010000
END:DAYLIGHT
BEGIN:STANDARD
TZOFFSETFROM:+0200
TZOFFSETTO:+0100
TZNAME:CET
DTSTART:20251026T010000
END:STANDARD
END:VTIMEZONE
BEGIN:VEVENT
DTSTART;TZID=Europe/Berlin:20241209T200000
DTEND;TZID=Europe/Berlin:20241209T220000
DTSTAMP:20260423T032715
CREATED:20241115T141310Z
LAST-MODIFIED:20241115T142944Z
UID:1528-1733774400-1733781600@www.landfrauen-neermoor.de
SUMMARY:Adventsfeier
DESCRIPTION:Wir stimmen uns zusammen mit unserer Pastorin Frau Edith Lammering auf die Festtage ein! Gemeinsam singen\, den unterhaltsamen Erzählungen unserer Pastorin lauschen\, Geselligkeit und nicht zuletzt unser wundervolles Tortenbuffet geniessen….auch konnten wir wieder einen tollen Chor für unsere Feier gewinnen. Unsere Adventsfeier stellt traditionell den Abschluss eines gemeinsamen LandFrauen-Jahres dar mit den besten Wünschen für das neue Jahr! \nEine besinnliche Adventszeit und Frohe Weihnachten wünscht Euch allen der Vorstand der Neermoorer LandFrauen!\n \n \nWer eine Torte für unser Tortenbuffet backen möchte\, meldet sich bitte beim Vorstand \n 
URL:https://www.landfrauen-neermoor.de/programm/adventsfeier-3/
LOCATION:Bürgerhaus Neermoor\, Norderstraße 6\, Moormerland\, 26802\, Deutschland
END:VEVENT
END:VCALENDAR