BEGIN:VCALENDAR
VERSION:2.0
PRODID:-//LandFrauenverein Neermoor - ECPv6.15.20//NONSGML v1.0//EN
CALSCALE:GREGORIAN
METHOD:PUBLISH
X-WR-CALNAME:LandFrauenverein Neermoor
X-ORIGINAL-URL:https://www.landfrauen-neermoor.de
X-WR-CALDESC:Veranstaltungen für LandFrauenverein Neermoor
REFRESH-INTERVAL;VALUE=DURATION:PT1H
X-Robots-Tag:noindex
X-PUBLISHED-TTL:PT1H
BEGIN:VTIMEZONE
TZID:Europe/Berlin
BEGIN:DAYLIGHT
TZOFFSETFROM:+0100
TZOFFSETTO:+0200
TZNAME:CEST
DTSTART:20240331T010000
END:DAYLIGHT
BEGIN:STANDARD
TZOFFSETFROM:+0200
TZOFFSETTO:+0100
TZNAME:CET
DTSTART:20241027T010000
END:STANDARD
BEGIN:DAYLIGHT
TZOFFSETFROM:+0100
TZOFFSETTO:+0200
TZNAME:CEST
DTSTART:20250330T010000
END:DAYLIGHT
BEGIN:STANDARD
TZOFFSETFROM:+0200
TZOFFSETTO:+0100
TZNAME:CET
DTSTART:20251026T010000
END:STANDARD
BEGIN:DAYLIGHT
TZOFFSETFROM:+0100
TZOFFSETTO:+0200
TZNAME:CEST
DTSTART:20260329T010000
END:DAYLIGHT
BEGIN:STANDARD
TZOFFSETFROM:+0200
TZOFFSETTO:+0100
TZNAME:CET
DTSTART:20261025T010000
END:STANDARD
END:VTIMEZONE
BEGIN:VEVENT
DTSTART;TZID=Europe/Berlin:20250113T200000
DTEND;TZID=Europe/Berlin:20250113T220000
DTSTAMP:20260423T013055
CREATED:20241228T134048Z
LAST-MODIFIED:20250116T174535Z
UID:1544-1736798400-1736805600@www.landfrauen-neermoor.de
SUMMARY:"Omas for future goes LandFrauen"
DESCRIPTION:Nachhaltigkeit ist in aller Munde und doch tun sich viele Wissenslücken bei diesem riesigen Themenkomplex auf. Um diese Lücken zu schliessen sind die “Omas for future” bei uns zu Gast! Sie haben ein Quizz erarbeitet\, was uns Nachhaltigkeit näherbringt. \nJeder kann im Kleinen etwas tun\, unseren Planeten nachhaltiger zu gestalten\, mit den vorhandenen Ressourcen besser umzugehen und den sogenannten ökologischen Fußabdruck möglichst klein zu halten. \n \nDie “Omas for future” im Landkreis Leer bestehen seit 2022 . Ehrenamtlich engagieren sich die “omas for futere” in mehr als 80 Regionalgruppen in Deutschland. Ihr Leitbild “Handeln!Aus Liebe” ist Programm. Sie gehören zur Generation 50+ und treten dafür ein\, dass auch kommende Generationen gute Lebensbedingungen haben. Mit ihrer Lebenserfahrung wollen sie zur notwendigen gesellschaftlichen Transformation beitragen auf individueller\, gemeinschaftlicher und politischer Ebene! Ein besseres Umweltbewusstsein ist ein ebenso wichtiges Ziel wie ein besseres Demokratieverständnis! \nDie Handlungskompetenz jedes Einzelnen soll gestärkt werden mit dem Ziel\, das eigene Verhalten zu hinterfragen und ggf zu verändern. Da knüpft auch das durch die “omas for future” erabeitet Wissensquizz an!
URL:https://www.landfrauen-neermoor.de/programm/omas-for-future-goes-landfrauen/
LOCATION:Bürgerhaus Neermoor\, Norderstraße 6\, Moormerland\, 26802\, Deutschland
END:VEVENT
END:VCALENDAR