BEGIN:VCALENDAR
VERSION:2.0
PRODID:-//LandFrauenverein Neermoor - ECPv6.15.20//NONSGML v1.0//EN
CALSCALE:GREGORIAN
METHOD:PUBLISH
X-ORIGINAL-URL:https://www.landfrauen-neermoor.de
X-WR-CALDESC:Veranstaltungen für LandFrauenverein Neermoor
REFRESH-INTERVAL;VALUE=DURATION:PT1H
X-Robots-Tag:noindex
X-PUBLISHED-TTL:PT1H
BEGIN:VTIMEZONE
TZID:Europe/Berlin
BEGIN:DAYLIGHT
TZOFFSETFROM:+0100
TZOFFSETTO:+0200
TZNAME:CEST
DTSTART:20240331T010000
END:DAYLIGHT
BEGIN:STANDARD
TZOFFSETFROM:+0200
TZOFFSETTO:+0100
TZNAME:CET
DTSTART:20241027T010000
END:STANDARD
BEGIN:DAYLIGHT
TZOFFSETFROM:+0100
TZOFFSETTO:+0200
TZNAME:CEST
DTSTART:20250330T010000
END:DAYLIGHT
BEGIN:STANDARD
TZOFFSETFROM:+0200
TZOFFSETTO:+0100
TZNAME:CET
DTSTART:20251026T010000
END:STANDARD
BEGIN:DAYLIGHT
TZOFFSETFROM:+0100
TZOFFSETTO:+0200
TZNAME:CEST
DTSTART:20260329T010000
END:DAYLIGHT
BEGIN:STANDARD
TZOFFSETFROM:+0200
TZOFFSETTO:+0100
TZNAME:CET
DTSTART:20261025T010000
END:STANDARD
END:VTIMEZONE
BEGIN:VEVENT
DTSTART;TZID=Europe/Berlin:20250308T100000
DTEND;TZID=Europe/Berlin:20250308T120000
DTSTAMP:20260422T181040
CREATED:20241228T135510Z
LAST-MODIFIED:20250310T191003Z
UID:1548-1741428000-1741435200@www.landfrauen-neermoor.de
SUMMARY:Frauenwochen: Mitbringfrühstück
DESCRIPTION:Ein Frühstück für Frauen von Frauen aus verschiedenen Kulturen\nDie Situation in der Welt macht uns umso deutlicher\, wie wichtig es ist\, miteinander ins Gespräch zu kommen\, sich zuzuhören und zu verstehen! Wie könnte das besser funktionieren als beim gemeinsamen Essen! Jede Teilnehmerin bringt eine für sie typische Frühstückszutat mit und ist so Teil eines wundervollen bunten Buffets! \nBrot\, Butter und Getränke wie Kaffee\, Tee und Saft sind vorhanden \nDie Teilnahme ist kostenlos!\n \nWir dürfen uns aber auch auf viele kulinarische Leckerbissen aus fremden Kulturen freuen!\nAnmeldung beim Vorstand\n  \nWie wunderbar auch in diesem Jahr wieder das Buffet bestückt war-ein toller Vormittag mit unglaublich tollen Frauen!
URL:https://www.landfrauen-neermoor.de/programm/frauenwochen-mitbringfruehstueck/
LOCATION:Bürgerhaus Neermoor\, Norderstraße 6\, Moormerland\, 26802\, Deutschland
END:VEVENT
END:VCALENDAR