BEGIN:VCALENDAR
VERSION:2.0
PRODID:-//LandFrauenverein Neermoor - ECPv6.15.20//NONSGML v1.0//EN
CALSCALE:GREGORIAN
METHOD:PUBLISH
X-ORIGINAL-URL:https://www.landfrauen-neermoor.de
X-WR-CALDESC:Veranstaltungen für LandFrauenverein Neermoor
REFRESH-INTERVAL;VALUE=DURATION:PT1H
X-Robots-Tag:noindex
X-PUBLISHED-TTL:PT1H
BEGIN:VTIMEZONE
TZID:Europe/Berlin
BEGIN:DAYLIGHT
TZOFFSETFROM:+0100
TZOFFSETTO:+0200
TZNAME:CEST
DTSTART:20240331T010000
END:DAYLIGHT
BEGIN:STANDARD
TZOFFSETFROM:+0200
TZOFFSETTO:+0100
TZNAME:CET
DTSTART:20241027T010000
END:STANDARD
BEGIN:DAYLIGHT
TZOFFSETFROM:+0100
TZOFFSETTO:+0200
TZNAME:CEST
DTSTART:20250330T010000
END:DAYLIGHT
BEGIN:STANDARD
TZOFFSETFROM:+0200
TZOFFSETTO:+0100
TZNAME:CET
DTSTART:20251026T010000
END:STANDARD
BEGIN:DAYLIGHT
TZOFFSETFROM:+0100
TZOFFSETTO:+0200
TZNAME:CEST
DTSTART:20260329T010000
END:DAYLIGHT
BEGIN:STANDARD
TZOFFSETFROM:+0200
TZOFFSETTO:+0100
TZNAME:CET
DTSTART:20261025T010000
END:STANDARD
END:VTIMEZONE
BEGIN:VEVENT
DTSTART;TZID=Europe/Berlin:20250512T200000
DTEND;TZID=Europe/Berlin:20250512T220000
DTSTAMP:20260422T130549
CREATED:20241228T142059Z
LAST-MODIFIED:20250314T102428Z
UID:1554-1747080000-1747087200@www.landfrauen-neermoor.de
SUMMARY:Mobile Beratungsstelle gegen Rechtsextremismus
DESCRIPTION:Demokratiebildung für eine vielfältige Gesellschaft-Fakten und was wir alle tun können! \nWie ist die Lage im Landkreis Leer? Was kann jeder Einzelne für eine starke Demokratie und gegen das Erstarken rechtsextremer Stömungen tun?                                                                                                                                                                                                             Mit dieser Veranstaltung möchten wir ausdrücklich alle Interessierten jeder Altersgruppe ansprechen. Auch wenn wir LandFrauen sind\, sind auch Männer eingeladen\, sich über dieses wichtige Thema zu informieren! \nDas wären die Themenfelder welche wir in dem zwei Stunden-Slot bearbeiten würden: \n\nVorstellung Mobile Beratung (wer sind wir überhaupt\, was machen wir\, für was sind wir ansprechbar\, etc.)\nLagebild (was gibt es im Landkreis für rechtsextreme Strukturen/Vorkommnisse) und Austausch dazu über die Perspektiven im Publikum auf den Landkreis\nHandlungsmöglichkeiten vor Ort + Diskussion\n\n\n\nAnkündigung Veranstaltung 12052025\n \n\n\n\n\n\n\n  \n\n\n\n\n\n \n\nMobile Beratung Niedersachsen. Gegen Rechtsextremismus für Demokratie.\n\n\n\nLinks\n\n\n\n\nMobile Beratung gegen Rechtsextremismus für Demokratie Niedersachsen\n\n\n\n\n\n \n\n\n\n\n\n\n \nMobile Beratung Niedersachsen\ngegen Rechtsextremismus für Demokratie \nbei WABE e.V.\nHolzmarkt 15\n27283 Verden \nDie Mobile Beratung ist als Partner des Demokratiezentrum beim Landespräventionsrat Niedersachsen regionaler Ansprechpartner für Einzelpersonen\, Gruppen\, Initiativen\, Vereine\, Firmen und andere Institutionen\, die fachliche Untertstützung in der konstruktive Auseindersetzung mit unterschiedlichen Formen von Rechtsextremismus benötigen. \nDie mobilen Beratungsteams agieren in unterschiedlichen Handlungsfeldern wie z.B. Schule\, Jugendhilfe\, Verwaltung und Wirtschaft bzw. ehrenamtlichem Engagement und entwickeln ortsbezogene Strategien\, z.B. gegen die (befürchtete) Dominanz rechtsextremer Gruppierungen. Dabei erfüllen die Beratungsteams in Abhängigkeit vom jeweiligen Beratungsauftrag Koordinierungsfunktionen\, bieten Organisations- und  Projektentwicklung an\, leisten Coaching und operative Hilfen\, transferieren Informationen sowie Erfahrungen und nehmen operative Analysen vor. \nZielsetzungen: \nBeratungen im Kontext (gewaltförmiger) Aktionen und insbesondere rechtsextremer Handlungen im öffentlichen Raum wie Demonstrationen\, Konzerte sowie im Kontext von rechter Agitation und Propaganda und von Mobilisierungen gegen die Aufnahme von Flüchtlingen/die Einrichtung von Flüchtlings-unterkünften im Kontext der Unterstützung von Flüchtlingen und der Schaffung einer Willkommenskultur\, Unterstützung in der Flüchtlingsarbeit ehrenamtlich Engagierter bei der Bewältigung von Anfeindungen durch Zuwanderungsgegner. \n \nRegionalbüro Nord/West:\nin Oldenburg (Oldb.)\nE-Mail: nordwest(at)mbt-niedersachsen.de\nTelefon: 0157 32 88 35 89 \nRegionalbüro Nord/Ost:\nin Verden (Aller)\nE-Mail: nordost(at)mbt-niedersachsen.de\nTelefon: 0152 213 590 11 \nRegionalbüro Süd:\nin Hildesheim\nE-Mail: sued(at)mbt-niedersachsen.de\nTelefon: 0152 034 31 429 \n Leitung / landesweite Koordination:\nTelefon: 04231 12 462\nE-Mail: info(at)mbt-niedersachsen.de \n \n  \n© WABE e.V. \n \n\n \n\n\n\n\n  \n\n\n\n\n\n\n\n\n 
URL:https://www.landfrauen-neermoor.de/programm/mobile-beratungsstelle-gegen-rechtsextremismus/
LOCATION:Bürgerhaus Neermoor\, Norderstraße 6\, Moormerland\, 26802\, Deutschland
END:VEVENT
END:VCALENDAR