BEGIN:VCALENDAR
VERSION:2.0
PRODID:-//LandFrauenverein Neermoor - ECPv6.15.20//NONSGML v1.0//EN
CALSCALE:GREGORIAN
METHOD:PUBLISH
X-ORIGINAL-URL:https://www.landfrauen-neermoor.de
X-WR-CALDESC:Veranstaltungen für LandFrauenverein Neermoor
REFRESH-INTERVAL;VALUE=DURATION:PT1H
X-Robots-Tag:noindex
X-PUBLISHED-TTL:PT1H
BEGIN:VTIMEZONE
TZID:Europe/Berlin
BEGIN:DAYLIGHT
TZOFFSETFROM:+0100
TZOFFSETTO:+0200
TZNAME:CEST
DTSTART:20220327T010000
END:DAYLIGHT
BEGIN:STANDARD
TZOFFSETFROM:+0200
TZOFFSETTO:+0100
TZNAME:CET
DTSTART:20221030T010000
END:STANDARD
BEGIN:DAYLIGHT
TZOFFSETFROM:+0100
TZOFFSETTO:+0200
TZNAME:CEST
DTSTART:20230326T010000
END:DAYLIGHT
BEGIN:STANDARD
TZOFFSETFROM:+0200
TZOFFSETTO:+0100
TZNAME:CET
DTSTART:20231029T010000
END:STANDARD
BEGIN:DAYLIGHT
TZOFFSETFROM:+0100
TZOFFSETTO:+0200
TZNAME:CEST
DTSTART:20240331T010000
END:DAYLIGHT
BEGIN:STANDARD
TZOFFSETFROM:+0200
TZOFFSETTO:+0100
TZNAME:CET
DTSTART:20241027T010000
END:STANDARD
END:VTIMEZONE
BEGIN:VEVENT
DTSTART;TZID=Europe/Berlin:20231113T200000
DTEND;TZID=Europe/Berlin:20231113T220000
DTSTAMP:20260426T032049
CREATED:20230209T192257Z
LAST-MODIFIED:20230904T171217Z
UID:1396-1699905600-1699912800@www.landfrauen-neermoor.de
SUMMARY:"Mien lüttje Lateern"
DESCRIPTION:  \nWas wir schon immer über Martini wissen wollten!\nUnser Referent Herr Garrelt van Borssum wird uns die historischen Zusammenhänge\, die Tradition und die Lieder rund um den Martini-Brauch näherbringen. \nUnser Referent hat die Sprachwissenschaft zu seinem Fachgebiet gemacht. An der Oldenburger Fakultät für Sprach-und Kulturwissenschaften ist das besondere Forschungsgebiet von Herrn van Borssum die Niederdeutsche Sprache und Literatur. Im persönlichen Gespräch wurde schnell deutlich\, daß unser Referent ein Verfechter der Plattdeutschen Sprache besonders auch an Schulen ist.  Unter anderem das Werk “Doon deit lehren!”  soll das Plattdeutsche Lesen in der Sekundarstufe fördern. 1999 bekam Garrelt van Borssum den Keerlke-Preis\, “de osfreeske Oscar”\,  gerade wegen seiner vielfältigen Verdienste um die Plattdeutsche Sprache verliehen. \nWir freuen uns auf einen interessanten Abend mit einem engagierten Verfechter der Plattdeutschen Sprache und Tradition…und nicht zuletzt auf Martini-Stimmung mit allem\, was dazugehört!
URL:https://www.landfrauen-neermoor.de/programm/mien-luettje-lateern/
LOCATION:Bürgerhaus Neermoor\, Norderstraße 6\, Moormerland\, 26802\, Deutschland
END:VEVENT
END:VCALENDAR