BEGIN:VCALENDAR
VERSION:2.0
PRODID:-//LandFrauenverein Neermoor - ECPv6.15.20//NONSGML v1.0//EN
CALSCALE:GREGORIAN
METHOD:PUBLISH
X-ORIGINAL-URL:https://www.landfrauen-neermoor.de
X-WR-CALDESC:Veranstaltungen für LandFrauenverein Neermoor
REFRESH-INTERVAL;VALUE=DURATION:PT1H
X-Robots-Tag:noindex
X-PUBLISHED-TTL:PT1H
BEGIN:VTIMEZONE
TZID:Europe/Berlin
BEGIN:DAYLIGHT
TZOFFSETFROM:+0100
TZOFFSETTO:+0200
TZNAME:CEST
DTSTART:20230326T010000
END:DAYLIGHT
BEGIN:STANDARD
TZOFFSETFROM:+0200
TZOFFSETTO:+0100
TZNAME:CET
DTSTART:20231029T010000
END:STANDARD
BEGIN:DAYLIGHT
TZOFFSETFROM:+0100
TZOFFSETTO:+0200
TZNAME:CEST
DTSTART:20240331T010000
END:DAYLIGHT
BEGIN:STANDARD
TZOFFSETFROM:+0200
TZOFFSETTO:+0100
TZNAME:CET
DTSTART:20241027T010000
END:STANDARD
BEGIN:DAYLIGHT
TZOFFSETFROM:+0100
TZOFFSETTO:+0200
TZNAME:CEST
DTSTART:20250330T010000
END:DAYLIGHT
BEGIN:STANDARD
TZOFFSETFROM:+0200
TZOFFSETTO:+0100
TZNAME:CET
DTSTART:20251026T010000
END:STANDARD
END:VTIMEZONE
BEGIN:VEVENT
DTSTART;TZID=Europe/Berlin:20240308T100000
DTEND;TZID=Europe/Berlin:20240308T123000
DTSTAMP:20260425T210910
CREATED:20240114T121156Z
LAST-MODIFIED:20240114T130851Z
UID:1459-1709892000-1709901000@www.landfrauen-neermoor.de
SUMMARY:Mitbringfrühstück im Rathaus
DESCRIPTION:“Ein Frühstück für Frauen von Frauen aus unterschiedlichen Kulturen” \nUnter diesem Motto veranstalten die LandFrauen Neermoor zusammen mit der Gleichstellungsbeauftragten Anja Zimmermann schon viele Jahre dieses kostenlose vielfältige Frühstück. \nJede Teilnehmerin bringt für sie typische Frühstückszutaten mit. Für Getränke\, Brot\, Brötchen und Butter ist im Vorfeld gesorgt! \n \nIm Moormerländer Rathaus heissen wir alle Interessierten Frauen willkommen und laden ein zum Austausch. \nEine Anmeldung ist erforderlich unter :04954 955528 oder unter inga-hummelsiep@web.de \n 
URL:https://www.landfrauen-neermoor.de/programm/mitbringfruehstueck-im-rathaus/
LOCATION:Rathaus Warsingsfehn\, Theodor-Heuss-Straße 12\, Moormerland\, 26802
END:VEVENT
BEGIN:VEVENT
DTSTART;TZID=Europe/Berlin:20240311T193000
DTEND;TZID=Europe/Berlin:20240311T223000
DTSTAMP:20260425T210910
CREATED:20240114T122131Z
LAST-MODIFIED:20240211T144559Z
UID:1462-1710185400-1710196200@www.landfrauen-neermoor.de
SUMMARY:Oster-Abendbrot
DESCRIPTION:Gemeinsam möchten wir mit Euch Abendbrot essen. Und weil Ostern vor der Tür steht\, gehen wir \ndas Ganze recht österlich an!\nAnke Troff\, Floristin und Landfrau\, wird unsere Tische dementsprechend dekorieren und uns auch gleich ein paar Tipps für den Hausgebrauch geben.\n \n \nUm eine Anmeldung beim Vorstand wird gebeten!\nWir freuen uns auf Euch.\nUnd hier ein kleiner LandFrauen-Tipp zu den Ostervorbereitungen von Peggy und Sonja : \nhttps://www.landfrauen-neermoor.de/wp-content/uploads/2024/01/Ostereierfaerben-nach-Hildegard.mp4
URL:https://www.landfrauen-neermoor.de/programm/oster-abendbrot/
LOCATION:Bürgerhaus Neermoor\, Norderstraße 6\, Moormerland\, 26802\, Deutschland
END:VEVENT
END:VCALENDAR