BEGIN:VCALENDAR
VERSION:2.0
PRODID:-//LandFrauenverein Neermoor - ECPv6.15.20//NONSGML v1.0//EN
CALSCALE:GREGORIAN
METHOD:PUBLISH
X-ORIGINAL-URL:https://www.landfrauen-neermoor.de
X-WR-CALDESC:Veranstaltungen für LandFrauenverein Neermoor
REFRESH-INTERVAL;VALUE=DURATION:PT1H
X-Robots-Tag:noindex
X-PUBLISHED-TTL:PT1H
BEGIN:VTIMEZONE
TZID:Europe/Berlin
BEGIN:DAYLIGHT
TZOFFSETFROM:+0100
TZOFFSETTO:+0200
TZNAME:CEST
DTSTART:20230326T010000
END:DAYLIGHT
BEGIN:STANDARD
TZOFFSETFROM:+0200
TZOFFSETTO:+0100
TZNAME:CET
DTSTART:20231029T010000
END:STANDARD
BEGIN:DAYLIGHT
TZOFFSETFROM:+0100
TZOFFSETTO:+0200
TZNAME:CEST
DTSTART:20240331T010000
END:DAYLIGHT
BEGIN:STANDARD
TZOFFSETFROM:+0200
TZOFFSETTO:+0100
TZNAME:CET
DTSTART:20241027T010000
END:STANDARD
BEGIN:DAYLIGHT
TZOFFSETFROM:+0100
TZOFFSETTO:+0200
TZNAME:CEST
DTSTART:20250330T010000
END:DAYLIGHT
BEGIN:STANDARD
TZOFFSETFROM:+0200
TZOFFSETTO:+0100
TZNAME:CET
DTSTART:20251026T010000
END:STANDARD
END:VTIMEZONE
BEGIN:VEVENT
DTSTART;VALUE=DATE:20241129
DTEND;VALUE=DATE:20241202
DTSTAMP:20260423T032715
CREATED:20241115T142651Z
LAST-MODIFIED:20241115T142651Z
UID:1530-1732838400-1733097599@www.landfrauen-neermoor.de
SUMMARY:Weihnachtsmarkt in der Neermoorer Mühle
DESCRIPTION:Die Neermoorer LandFrauen sind wieder beim “Tannenzauber unter dem Mühlenstein” dabei! \nEinmaliger Eierpunsch und köstliche heisse Kakaospezialitäten erwarten die Besucher am LandFrauen-Stand in der Halle der Neermoorer Mühle. Noch nicht probiert? Dann aber los zu unserer kleinen Kakaobude mit dem unverkennbaren LandFrauen-Logo! \nWir freuen uns auf Euch! \nEin großer Dank gilt dem Börger-un Möhlenvereen\, der diesen wunderbaren Weihnachtsmarkt jedes Jahr wieder so wunderbar herrichtet und dass wir immer wieder dabei sein dürfen! \nFreitag\, 29.11. ab 18:00 Uhr  Samstag\, 30.11. ab 15:00 Uhr  Sonntag\, 01.12. ab 14:00 Uhr \n  \n \nSpaß bei der “Arbeit” ist bei den LandFrauen garantiert!
URL:https://www.landfrauen-neermoor.de/programm/weihnachtsmarkt-in-der-neermoorer-muehle-2/
LOCATION:Mühle Neermoor
END:VEVENT
END:VCALENDAR