BEGIN:VCALENDAR
VERSION:2.0
PRODID:-//LandFrauenverein Neermoor - ECPv6.15.20//NONSGML v1.0//EN
CALSCALE:GREGORIAN
METHOD:PUBLISH
X-ORIGINAL-URL:https://www.landfrauen-neermoor.de
X-WR-CALDESC:Veranstaltungen für LandFrauenverein Neermoor
REFRESH-INTERVAL;VALUE=DURATION:PT1H
X-Robots-Tag:noindex
X-PUBLISHED-TTL:PT1H
BEGIN:VTIMEZONE
TZID:Europe/Berlin
BEGIN:DAYLIGHT
TZOFFSETFROM:+0100
TZOFFSETTO:+0200
TZNAME:CEST
DTSTART:20240331T010000
END:DAYLIGHT
BEGIN:STANDARD
TZOFFSETFROM:+0200
TZOFFSETTO:+0100
TZNAME:CET
DTSTART:20241027T010000
END:STANDARD
BEGIN:DAYLIGHT
TZOFFSETFROM:+0100
TZOFFSETTO:+0200
TZNAME:CEST
DTSTART:20250330T010000
END:DAYLIGHT
BEGIN:STANDARD
TZOFFSETFROM:+0200
TZOFFSETTO:+0100
TZNAME:CET
DTSTART:20251026T010000
END:STANDARD
BEGIN:DAYLIGHT
TZOFFSETFROM:+0100
TZOFFSETTO:+0200
TZNAME:CEST
DTSTART:20260329T010000
END:DAYLIGHT
BEGIN:STANDARD
TZOFFSETFROM:+0200
TZOFFSETTO:+0100
TZNAME:CET
DTSTART:20261025T010000
END:STANDARD
END:VTIMEZONE
BEGIN:VEVENT
DTSTART;TZID=Europe/Berlin:20250414T200000
DTEND;TZID=Europe/Berlin:20250414T220000
DTSTAMP:20260422T142528
CREATED:20241228T141123Z
LAST-MODIFIED:20241228T141123Z
UID:1552-1744660800-1744668000@www.landfrauen-neermoor.de
SUMMARY:Gesunde Füße in allen Lebenslagen
DESCRIPTION:Die Podologin Ruth Brunken berät über Fußgesundheit \nDie staatlichgeprüfte Podologin betreibt ihre Praxis in der Dr.Warsing-Strasse in Warsingsfehn. \nDie podologische Fußbehandlung am diabetischen Fuß und die besonderen Anforderungen im Bereich der Hygiene gehören zu den Schwerpunkten ihrer Arbeit. Aber auch zu allen Fragen rund um das Thema Fußgesundheit wird Frau Brunken uns Antwort und fachlichen Rat geben!
URL:https://www.landfrauen-neermoor.de/programm/gesunde-fuesse-in-allen-lebenslagen/
LOCATION:Bürgerhaus Neermoor\, Norderstraße 6\, Moormerland\, 26802\, Deutschland
END:VEVENT
BEGIN:VEVENT
DTSTART;TZID=Europe/Berlin:20250430T183000
DTEND;TZID=Europe/Berlin:20250430T233000
DTSTAMP:20260422T142528
CREATED:20250106T181218Z
LAST-MODIFIED:20250106T181218Z
UID:1597-1746037800-1746055800@www.landfrauen-neermoor.de
SUMMARY:Maibaum "Tanz in den Mai"
DESCRIPTION:Die Neermoorer Vereine laden wieder in die Mühle zum “Tanz in den Mai” ein. Nach dem Aufstellen des Maibaums mit musikalischer Begleitung durch die Schüler der Focko-Ukena-Schule  und des Posaunenchors ist in der großen Halle der Mühle alles vorbereitet für einen geselligen Abend mit Partystimmung. \nDie Neermoorer LandFrauen sind wieder mit ihrem Altbierbowle-Stand vertreten. \nWir treffen uns auf ein Glas Bowle! \n 
URL:https://www.landfrauen-neermoor.de/programm/maibaum-tanz-in-den-mai/
LOCATION:Mühle Neermoor
END:VEVENT
END:VCALENDAR